BEGIN:VCALENDAR
VERSION:2.0
PRODID:icalendar-ruby
CALSCALE:GREGORIAN
BEGIN:VEVENT
DTSTAMP:20260423T071259Z
UID:7725be03-6e26-41fd-b4ec-46df00919476
DTSTART;VALUE=DATE:20251127
DESCRIPTION:Property ID# 599750\, Locatoin: 98 Moorhouse Avenue\, Time: 11:
 00AM
SUMMARY:Auction for 
END:VEVENT
END:VCALENDAR
