BEGIN:VCALENDAR
VERSION:2.0
PRODID:icalendar-ruby
CALSCALE:GREGORIAN
BEGIN:VEVENT
DTSTAMP:20260421T102616Z
UID:0b8f48f5-cca4-4064-81d5-af48cc3c9dbe
DTSTART;VALUE=DATE:20240418
DESCRIPTION:Property ID# 573554\, Time: 4:00PM
SUMMARY:Auction for 
END:VEVENT
END:VCALENDAR
