BEGIN:VCALENDAR
VERSION:2.0
PRODID:icalendar-ruby
CALSCALE:GREGORIAN
BEGIN:VEVENT
DTSTAMP:20260423T065502Z
UID:cb890814-8955-4b75-a8c8-141731ef5f06
DTSTART;VALUE=DATE:20231219
DESCRIPTION:Property ID# 567187\, Locatoin: 98 Moorhouse Avenue\, Time: 11:
 00AM
SUMMARY:Auction for 
END:VEVENT
END:VCALENDAR
