BEGIN:VCALENDAR
VERSION:2.0
PRODID:icalendar-ruby
CALSCALE:GREGORIAN
BEGIN:VEVENT
DTSTAMP:20260422T115202Z
UID:9079416e-d093-40dd-988c-39241b868896
DTSTART;VALUE=DATE:20231206
DESCRIPTION:Property ID# 565873\, Time: 4:00PM
SUMMARY:Auction for 
END:VEVENT
END:VCALENDAR
