BEGIN:VCALENDAR
VERSION:2.0
PRODID:icalendar-ruby
CALSCALE:GREGORIAN
BEGIN:VEVENT
DTSTAMP:20260423T070631Z
UID:81cc55e3-eda4-4867-a60c-434659d5c785
DTSTART;VALUE=DATE:20230920
DESCRIPTION:Property ID# 561750\, Time: 12:00PM
SUMMARY:Auction for 
END:VEVENT
END:VCALENDAR
