BEGIN:VCALENDAR
VERSION:2.0
PRODID:icalendar-ruby
CALSCALE:GREGORIAN
BEGIN:VEVENT
DTSTAMP:20260423T065157Z
UID:6f7ea588-64e1-436a-92e4-e533f0caf730
DTSTART;VALUE=DATE:20230629
DESCRIPTION:Property ID# 557678\, Locatoin: Grenadier Auction Rooms\, Moorh
 ouse Avenue\, Time: 11:00AM
SUMMARY:Auction for 
END:VEVENT
END:VCALENDAR
