BEGIN:VCALENDAR
VERSION:2.0
PRODID:icalendar-ruby
CALSCALE:GREGORIAN
BEGIN:VEVENT
DTSTAMP:20260423T065603Z
UID:a701e8e5-690a-4ae7-ab37-9130c21077ad
DTSTART;VALUE=DATE:20230209
DESCRIPTION:Property ID# 550731\, Time: 12:00PM
SUMMARY:Auction for 
END:VEVENT
END:VCALENDAR
