BEGIN:VCALENDAR
VERSION:2.0
PRODID:icalendar-ruby
CALSCALE:GREGORIAN
BEGIN:VEVENT
DTSTAMP:20260423T065339Z
UID:49d4ec9e-80c5-40e5-bf74-0cd291118174
DTSTART;VALUE=DATE:20221207
DESCRIPTION:Property ID# 547713\, Time: 4:00PM
SUMMARY:Auction for 
END:VEVENT
END:VCALENDAR
