BEGIN:VCALENDAR
VERSION:2.0
PRODID:icalendar-ruby
CALSCALE:GREGORIAN
BEGIN:VEVENT
DTSTAMP:20260423T065222Z
UID:7ce08e49-e239-4167-919b-fc16e76699c0
DTSTART;VALUE=DATE:20221006
DESCRIPTION:Property ID# 543846\, Locatoin: 98 Moorhouse Avenue\, Time: 11:
 00AM
SUMMARY:Auction for 
END:VEVENT
END:VCALENDAR
