BEGIN:VCALENDAR
VERSION:2.0
PRODID:icalendar-ruby
CALSCALE:GREGORIAN
BEGIN:VEVENT
DTSTAMP:20260423T065111Z
UID:40a38a49-18d5-4b4c-a31b-181316035b5e
DTSTART;VALUE=DATE:20220929
DESCRIPTION:Property ID# 543328\, Locatoin: 98 Moorhouse Avenue\, Time: 11:
 00AM
SUMMARY:Auction for 
END:VEVENT
END:VCALENDAR
