BEGIN:VCALENDAR
VERSION:2.0
PRODID:icalendar-ruby
CALSCALE:GREGORIAN
BEGIN:VEVENT
DTSTAMP:20260423T070318Z
UID:b16fbda6-5148-4fcc-9f6d-e7f51802ab56
DTSTART;VALUE=DATE:20220915
DESCRIPTION:Property ID# 541766\, Locatoin: 98 Moorhouse Avenue\, Time: 11:
 00AM
SUMMARY:Auction for 
END:VEVENT
END:VCALENDAR
