BEGIN:VCALENDAR
VERSION:2.0
PRODID:icalendar-ruby
CALSCALE:GREGORIAN
BEGIN:VEVENT
DTSTAMP:20260423T065339Z
UID:605ea71d-1ca5-4231-9f6e-0d46312a2eb3
DTSTART;VALUE=DATE:20220630
DESCRIPTION:Property ID# 538261\, Locatoin: 98 Moorhouse Avenue\, Time: 11:
 00AM
SUMMARY:Auction for 
END:VEVENT
END:VCALENDAR
