BEGIN:VCALENDAR
VERSION:2.0
PRODID:icalendar-ruby
CALSCALE:GREGORIAN
BEGIN:VEVENT
DTSTAMP:20260423T071051Z
UID:fff15e11-cf9b-469a-aba2-c0e669963673
DTSTART;VALUE=DATE:20220601
DESCRIPTION:Property ID# 536114\, Time: 12:00PM
SUMMARY:Auction for 
END:VEVENT
END:VCALENDAR
