BEGIN:VCALENDAR
VERSION:2.0
PRODID:icalendar-ruby
CALSCALE:GREGORIAN
BEGIN:VEVENT
DTSTAMP:20260423T070631Z
UID:b019389b-e057-4457-ad5c-765d7650e2d2
DTSTART;VALUE=DATE:20220505
DESCRIPTION:Property ID# 533666\, Locatoin: 98 Moorhouse Avenue\, Time: 11:
 00AM
SUMMARY:Auction for 
END:VEVENT
END:VCALENDAR
