BEGIN:VCALENDAR
VERSION:2.0
PRODID:icalendar-ruby
CALSCALE:GREGORIAN
BEGIN:VEVENT
DTSTAMP:20260423T071509Z
UID:a3e6d1fa-1042-4cde-a007-652ad252f8d6
DTSTART;VALUE=DATE:20220324
DESCRIPTION:Property ID# 530602\, Locatoin: 98 Moorhouse Avenue\, Time: 11:
 00AM
SUMMARY:Auction for 
END:VEVENT
END:VCALENDAR
