BEGIN:VCALENDAR
VERSION:2.0
PRODID:icalendar-ruby
CALSCALE:GREGORIAN
BEGIN:VEVENT
DTSTAMP:20260424T103930Z
UID:76fcd4c1-e926-423a-8a32-651089fd223e
DTSTART;VALUE=DATE:20220202
DESCRIPTION:Property ID# 526052\, Locatoin: Tait Technology Centre\, 245 Wo
 oldridge Road\, Harewood (Unless Sold Prior)\, Time: 12:00PM
SUMMARY:Auction for 
END:VEVENT
END:VCALENDAR
