BEGIN:VCALENDAR
VERSION:2.0
PRODID:icalendar-ruby
CALSCALE:GREGORIAN
BEGIN:VEVENT
DTSTAMP:20210121T210532Z
UID:367fe5de-cba8-47cf-ac7c-e36ac97621c8
DTSTART;TZID=Pacific/Auckland:20210123T130000
DTEND;TZID=Pacific/Auckland:20210123T134500
DESCRIPTION:Property ID# 499569
SUMMARY:Openhome for 1 Cotswold Avenue
END:VEVENT
END:VCALENDAR
