BEGIN:VCALENDAR
VERSION:2.0
PRODID:icalendar-ruby
CALSCALE:GREGORIAN
BEGIN:VEVENT
DTSTAMP:20210121T210540Z
UID:4c5f3f41-9920-4e8f-a880-5bba8d73326d
DTSTART;TZID=Pacific/Auckland:20210123T113000
DTEND;TZID=Pacific/Auckland:20210123T121500
DESCRIPTION:Property ID# 500043
SUMMARY:Openhome for 7 Elmtree Close
END:VEVENT
END:VCALENDAR
