BEGIN:VCALENDAR
VERSION:2.0
PRODID:icalendar-ruby
CALSCALE:GREGORIAN
BEGIN:VEVENT
DTSTAMP:20210121T210550Z
UID:48baacb1-73ff-4825-a6eb-1e0c86604bc8
DTSTART;TZID=Pacific/Auckland:20210122T144500
DTEND;TZID=Pacific/Auckland:20210122T153000
DESCRIPTION:Property ID# 500137
SUMMARY:Openhome for 76 Selwyn Street
END:VEVENT
END:VCALENDAR
