BEGIN:VCALENDAR
VERSION:2.0
PRODID:icalendar-ruby
CALSCALE:GREGORIAN
BEGIN:VEVENT
DTSTAMP:20210121T210608Z
UID:1cbd3044-208e-4bdd-a344-78671d1b292b
DTSTART;TZID=Pacific/Auckland:20210124T150000
DTEND;TZID=Pacific/Auckland:20210124T153000
DESCRIPTION:Property ID# 499950
SUMMARY:Openhome for 7 Fleur Lane
END:VEVENT
END:VCALENDAR
