BEGIN:VCALENDAR
VERSION:2.0
PRODID:icalendar-ruby
CALSCALE:GREGORIAN
BEGIN:VEVENT
DTSTAMP:20210121T210614Z
UID:0c75ab9a-a8aa-4c0f-8ba7-04efabd4fc14
DTSTART;TZID=Pacific/Auckland:20210123T140000
DTEND;TZID=Pacific/Auckland:20210123T143000
DESCRIPTION:Property ID# 499953
SUMMARY:Openhome for 61B Frankleigh Street
END:VEVENT
END:VCALENDAR
