BEGIN:VCALENDAR
VERSION:2.0
PRODID:icalendar-ruby
CALSCALE:GREGORIAN
BEGIN:VEVENT
DTSTAMP:20210121T210617Z
UID:346f8f9b-63d7-4af2-9133-874301e02921
DTSTART;TZID=Pacific/Auckland:20210124T133000
DTEND;TZID=Pacific/Auckland:20210124T143000
DESCRIPTION:Property ID# 499431
SUMMARY:Openhome for 2 Woodglen Drive
END:VEVENT
END:VCALENDAR
