BEGIN:VCALENDAR
VERSION:2.0
PRODID:icalendar-ruby
CALSCALE:GREGORIAN
BEGIN:VEVENT
DTSTAMP:20210121T210631Z
UID:e47c1659-f9a1-4655-991f-42ee4e799f4c
DTSTART;TZID=Pacific/Auckland:20210123T110000
DTEND;TZID=Pacific/Auckland:20210123T114500
DESCRIPTION:Property ID# 499871
SUMMARY:Openhome for 27 Lavandula Crescent
END:VEVENT
END:VCALENDAR
