BEGIN:VCALENDAR
VERSION:2.0
PRODID:icalendar-ruby
CALSCALE:GREGORIAN
BEGIN:VEVENT
DTSTAMP:20210121T210553Z
UID:e7f411b5-09b8-49b7-868b-67fe31d26aa9
DTSTART;VALUE=DATE:20210211
DESCRIPTION:Property ID# 500137\, Time: 12:00PM
SUMMARY:Auction for 76 Selwyn Street
END:VEVENT
END:VCALENDAR
