BEGIN:VCALENDAR
VERSION:2.0
PRODID:icalendar-ruby
CALSCALE:GREGORIAN
BEGIN:VEVENT
DTSTAMP:20210121T210543Z
UID:72bfadfa-262a-4a31-8233-adeb963e5858
DTSTART;VALUE=DATE:20210211
DESCRIPTION:Property ID# 500043\, Time: 10:00AM
SUMMARY:Auction for 7 Elmtree Close
END:VEVENT
END:VCALENDAR
