BEGIN:VCALENDAR
VERSION:2.0
PRODID:icalendar-ruby
CALSCALE:GREGORIAN
BEGIN:VEVENT
DTSTAMP:20210121T210609Z
UID:b767db22-3fb4-4441-b97c-6be83fc186cc
DTSTART;VALUE=DATE:20210210
DESCRIPTION:Property ID# 499950\, Time: 10:00AM
SUMMARY:Auction for 7 Fleur Lane
END:VEVENT
END:VCALENDAR
