BEGIN:VCALENDAR
VERSION:2.0
PRODID:icalendar-ruby
CALSCALE:GREGORIAN
BEGIN:VEVENT
DTSTAMP:20210121T210634Z
UID:ca78850c-86e0-4baa-acf1-2c8d841a7f8a
DTSTART;VALUE=DATE:20210211
DESCRIPTION:Property ID# 499871\, Time: 12:00PM
SUMMARY:Auction for 27 Lavandula Crescent
END:VEVENT
END:VCALENDAR
