BEGIN:VCALENDAR
VERSION:2.0
PRODID:icalendar-ruby
CALSCALE:GREGORIAN
BEGIN:VEVENT
DTSTAMP:20210121T210558Z
UID:6a52f7e2-1ed6-4c9d-a1b3-7c36639e890f
DTSTART;VALUE=DATE:20210210
DESCRIPTION:Property ID# 499586\, Time: 12:00PM
SUMMARY:Auction for 12/444 Hagley Avenue
END:VEVENT
END:VCALENDAR
