BEGIN:VCALENDAR
VERSION:2.0
PRODID:icalendar-ruby
CALSCALE:GREGORIAN
BEGIN:VEVENT
DTSTAMP:20210121T210534Z
UID:417061c6-66c0-4e26-ac34-9d93fbaa1b5a
DTSTART;VALUE=DATE:20210210
DESCRIPTION:Property ID# 499569\, Time: 2:00PM
SUMMARY:Auction for 1 Cotswold Avenue
END:VEVENT
END:VCALENDAR
