BEGIN:VCALENDAR
VERSION:2.0
PRODID:icalendar-ruby
CALSCALE:GREGORIAN
BEGIN:VEVENT
DTSTAMP:20210121T210619Z
UID:de5cef2a-ce31-479d-a90c-2b1c9b4825df
DTSTART;VALUE=DATE:20210216
DESCRIPTION:Property ID# 499431\, Locatoin: Harcourts Papanui\, Time: 3:00P
 M
SUMMARY:Auction for 2 Woodglen Drive
END:VEVENT
END:VCALENDAR
