BEGIN:VCALENDAR
VERSION:2.0
PRODID:icalendar-ruby
CALSCALE:GREGORIAN
BEGIN:VEVENT
DTSTAMP:20210121T211525Z
UID:ffc2e1ca-5a66-40bf-9ea3-b172e90fd25a
DTSTART;VALUE=DATE:20210204
DESCRIPTION:Property ID# 499335\, Locatoin: 98 Moorhouse Avennue\, Christch
 urch\, Time: 12:00PM
SUMMARY:Auction for 5 Urella Place
END:VEVENT
END:VCALENDAR
