BEGIN:VCALENDAR
VERSION:2.0
PRODID:icalendar-ruby
CALSCALE:GREGORIAN
BEGIN:VEVENT
DTSTAMP:20210121T211803Z
UID:9a398ec8-d0e9-4630-b773-be3fc1d9f2d7
DTSTART;VALUE=DATE:20210127
DESCRIPTION:Property ID# 499078\, Time: 4:00PM
SUMMARY:Auction for 29/56 Gladson Avenue
END:VEVENT
END:VCALENDAR
