BEGIN:VCALENDAR
VERSION:2.0
PRODID:icalendar-ruby
CALSCALE:GREGORIAN
BEGIN:VEVENT
DTSTAMP:20210121T211503Z
UID:c3d58033-80b4-4f0b-a9af-7fa3b836cc6b
DTSTART;VALUE=DATE:20210127
DESCRIPTION:Property ID# 498632\, Locatoin: Tait Technology Centre\, 245 Wo
 olridge Road\, Christchurch\, Time: 12:00PM
SUMMARY:Auction for 99 Malcolm Avenue
END:VEVENT
END:VCALENDAR
