BEGIN:VCALENDAR
VERSION:2.0
PRODID:icalendar-ruby
CALSCALE:GREGORIAN
BEGIN:VEVENT
DTSTAMP:20210120T054026Z
UID:8161551e-750d-4fa9-b613-5409dfc595f0
DTSTART;VALUE=DATE:20201217
DESCRIPTION:Property ID# 496889\, Time: 12:00PM
SUMMARY:Auction for 
END:VEVENT
END:VCALENDAR
