BEGIN:VCALENDAR
VERSION:2.0
PRODID:icalendar-ruby
CALSCALE:GREGORIAN
BEGIN:VEVENT
DTSTAMP:20210121T211537Z
UID:64f5dd98-304d-4210-8a9b-1449af25072c
DTSTART;VALUE=DATE:20201210
DESCRIPTION:Property ID# 496339\, Locatoin: Ray White\, Level 1\, Conway Bu
 ilding\, 188 High Street\, Rangiora\, Time: 4:00PM
SUMMARY:Auction for 
END:VEVENT
END:VCALENDAR
