BEGIN:VCALENDAR
VERSION:2.0
PRODID:icalendar-ruby
CALSCALE:GREGORIAN
BEGIN:VEVENT
DTSTAMP:20210121T211521Z
UID:ded3da95-5e78-4207-9b69-1f4ef6bef663
DTSTART;VALUE=DATE:20201209
DESCRIPTION:Property ID# 495620\, Locatoin: Holmwood Auction Room\, 399 Ila
 m Rd\, Time: 10:00AM
SUMMARY:Auction for 
END:VEVENT
END:VCALENDAR
