BEGIN:VCALENDAR
VERSION:2.0
PRODID:icalendar-ruby
CALSCALE:GREGORIAN
BEGIN:VEVENT
DTSTAMP:20210121T211526Z
UID:0fb8c584-da6d-4dc6-b605-1867ba425eef
DTSTART;VALUE=DATE:20201203
DESCRIPTION:Property ID# 495448\, Locatoin: 98 Moorhouse Avenue\, Christchu
 rch\, Time: 12:00PM
SUMMARY:Auction for 
END:VEVENT
END:VCALENDAR
