BEGIN:VCALENDAR
VERSION:2.0
PRODID:icalendar-ruby
CALSCALE:GREGORIAN
BEGIN:VEVENT
DTSTAMP:20210121T211455Z
UID:8ead142d-4ae1-4bed-8e16-55dd3536f5fb
DTSTART;VALUE=DATE:20201126
DESCRIPTION:Property ID# 494622\, Time: 12:00PM
SUMMARY:Auction for 
END:VEVENT
END:VCALENDAR
