BEGIN:VCALENDAR
VERSION:2.0
PRODID:icalendar-ruby
CALSCALE:GREGORIAN
BEGIN:VEVENT
DTSTAMP:20210121T211520Z
UID:56643fa8-fc35-43c5-afe0-2ef3e10edc4c
DTSTART;VALUE=DATE:20201125
DESCRIPTION:Property ID# 494469\, Locatoin: Holmwood Auction Room\, 399 Ila
 m Rd\, Time: 10:00AM
SUMMARY:Auction for 24 Lonsdale Street
END:VEVENT
END:VCALENDAR
