BEGIN:VCALENDAR
VERSION:2.0
PRODID:icalendar-ruby
CALSCALE:GREGORIAN
BEGIN:VEVENT
DTSTAMP:20210121T211806Z
UID:d00af6f1-6755-4795-8213-daf6ed0cba71
DTSTART;VALUE=DATE:20201125
DESCRIPTION:Property ID# 494368\, Locatoin: Mike Pero Head Office\, Tait Co
 mmunications Building \, Sir Angus Tait Drive\, Time: 12:00PM
SUMMARY:Auction for 
END:VEVENT
END:VCALENDAR
