BEGIN:VCALENDAR
VERSION:2.0
PRODID:icalendar-ruby
CALSCALE:GREGORIAN
BEGIN:VEVENT
DTSTAMP:20210120T054028Z
UID:7a50ff45-3b67-4af8-8220-4f8abf589fc4
DTSTART;VALUE=DATE:20201119
DESCRIPTION:Property ID# 494071\, Time: 12:00PM
SUMMARY:Auction for 
END:VEVENT
END:VCALENDAR
