BEGIN:VCALENDAR
VERSION:2.0
PRODID:icalendar-ruby
CALSCALE:GREGORIAN
BEGIN:VEVENT
DTSTAMP:20210121T211823Z
UID:503ae8af-d9b3-4a45-90e0-1f849a2ce0cf
DTSTART;VALUE=DATE:20201112
DESCRIPTION:Property ID# 493613\, Time: 12:00PM
SUMMARY:Auction for 
END:VEVENT
END:VCALENDAR
