BEGIN:VCALENDAR
VERSION:2.0
PRODID:icalendar-ruby
CALSCALE:GREGORIAN
BEGIN:VEVENT
DTSTAMP:20210120T054100Z
UID:5a09e422-593c-415f-b297-d1c296d34046
DTSTART;VALUE=DATE:20201104
DESCRIPTION:Property ID# 492731\, Locatoin: Harcourts Holmwood\, 397 - 399 
 Ilam Road\, Ilam (unless sold prior)\, Time: 10:00AM
SUMMARY:Auction for 
END:VEVENT
END:VCALENDAR
