BEGIN:VCALENDAR
VERSION:2.0
PRODID:icalendar-ruby
CALSCALE:GREGORIAN
BEGIN:VEVENT
DTSTAMP:20210121T211435Z
UID:c31b301c-6cde-4b95-b0e5-02ca3d35690b
DTSTART;VALUE=DATE:20201111
DESCRIPTION:Property ID# 492553\, Time: 2:00PM
SUMMARY:Auction for 
END:VEVENT
END:VCALENDAR
