BEGIN:VCALENDAR
VERSION:2.0
PRODID:icalendar-ruby
CALSCALE:GREGORIAN
BEGIN:VEVENT
DTSTAMP:20210120T054031Z
UID:e3c44846-dd4a-4d4f-82ca-c1bfe5a865c1
DTSTART;VALUE=DATE:20201105
DESCRIPTION:Property ID# 492405\, Time: 12:00PM
SUMMARY:Auction for 
END:VEVENT
END:VCALENDAR
