BEGIN:VCALENDAR
VERSION:2.0
PRODID:icalendar-ruby
CALSCALE:GREGORIAN
BEGIN:VEVENT
DTSTAMP:20210121T211438Z
UID:1b51ce10-2657-4071-9fc2-7bd67f7f0b5e
DTSTART;VALUE=DATE:20201028
DESCRIPTION:Property ID# 491708\, Time: 2:00PM
SUMMARY:Auction for 
END:VEVENT
END:VCALENDAR
