BEGIN:VCALENDAR
VERSION:2.0
PRODID:icalendar-ruby
CALSCALE:GREGORIAN
BEGIN:VEVENT
DTSTAMP:20210121T211804Z
UID:a67bc60b-1846-48cb-965c-cea8b7ed1746
DTSTART;VALUE=DATE:20201021
DESCRIPTION:Property ID# 491647\, Time: 4:00PM
SUMMARY:Auction for 108D Withells Road
END:VEVENT
END:VCALENDAR
