BEGIN:VCALENDAR
VERSION:2.0
PRODID:icalendar-ruby
CALSCALE:GREGORIAN
BEGIN:VEVENT
DTSTAMP:20210120T054034Z
UID:47c3295f-e467-4da5-a2d4-e91a926f755d
DTSTART;VALUE=DATE:20201008
DESCRIPTION:Property ID# 489848\, Time: 12:00PM
SUMMARY:Auction for 
END:VEVENT
END:VCALENDAR
