BEGIN:VCALENDAR
VERSION:2.0
PRODID:icalendar-ruby
CALSCALE:GREGORIAN
BEGIN:VEVENT
DTSTAMP:20210121T211457Z
UID:f797832e-b3f8-4f72-a9dd-2df6b2e437e4
DTSTART;VALUE=DATE:20201001
DESCRIPTION:Property ID# 489540\, Time: 12:00PM
SUMMARY:Auction for 
END:VEVENT
END:VCALENDAR
