BEGIN:VCALENDAR
VERSION:2.0
PRODID:icalendar-ruby
CALSCALE:GREGORIAN
BEGIN:VEVENT
DTSTAMP:20210121T211458Z
UID:8a2d6a40-ae17-435d-baab-7161777192ae
DTSTART;VALUE=DATE:20200924
DESCRIPTION:Property ID# 489094\, Time: 12:00PM
SUMMARY:Auction for 
END:VEVENT
END:VCALENDAR
